{
 "tileInfo": {
  "lods": [
   {
    "level": 0,
    "scale": 591657527.591555,
    "resolution": 156543.03392799999
   },
   {
    "level": 1,
    "scale": 295828763.795777023,
    "resolution": 78271.5169639998931
   },
   {
    "level": 2,
    "scale": 147914381.897888988,
    "resolution": 39135.7584820000993
   },
   {
    "level": 3,
    "scale": 73957190.9489440024,
    "resolution": 19567.8792409999005
   },
   {
    "level": 4,
    "scale": 36978595.4744720012,
    "resolution": 9783.93962049995935
   },
   {
    "level": 5,
    "scale": 18489297.7372360006,
    "resolution": 4891.96981024997967
   },
   {
    "level": 6,
    "scale": 9244648.8686180003,
    "resolution": 2445.98490512498984
   },
   {
    "level": 7,
    "scale": 4622324.43430900015,
    "resolution": 1222.99245256248992
   },
   {
    "level": 8,
    "scale": 2311162.21715500019,
    "resolution": 611.496226281380018
   },
   {
    "level": 9,
    "scale": 1155581.108577,
    "resolution": 305.748113140558019
   },
   {
    "level": 10,
    "scale": 577790.554288999992,
    "resolution": 152.874056570411
   },
   {
    "level": 11,
    "scale": 288895.277143999992,
    "resolution": 76.437028285073197
   },
   {
    "level": 12,
    "scale": 144447.638572,
    "resolution": 38.218514142536598
   },
   {
    "level": 13,
    "scale": 72223.8192859999981,
    "resolution": 19.109257071268299
   },
   {
    "level": 14,
    "scale": 36111.9096429999991,
    "resolution": 9.5546285356341496
   },
   {
    "level": 15,
    "scale": 18055.954822,
    "resolution": 4.7773142679493699
   },
   {
    "level": 16,
    "scale": 9027.97741099999985,
    "resolution": 2.38865713397468
   },
   {
    "level": 17,
    "scale": 4513.98870499999975,
    "resolution": 1.1943285668550501
   },
   {
    "level": 18,
    "scale": 2256.994353,
    "resolution": 0.59716428355981699
   },
   {
    "level": 19,
    "scale": 1128.49717600000008,
    "resolution": 0.29858214164761698
   },
   {
    "level": 20,
    "scale": 564.248588000000041,
    "resolution": 0.14929107082380833
   },
   {
    "level": 21,
    "scale": 282.12429400000002,
    "resolution": 0.074645535411904163
   },
   {
    "level": 22,
    "scale": 141.06214700000001,
    "resolution": 0.037322767705952081
   },
   {
    "level": 23,
    "scale": 70.531073500000005,
    "resolution": 0.018661383852976041
   }
  ],
  "bandCount": 1,
  "lercError": 0,
  "origin": {
   "x": -20037508.3427870013,
   "y": 20037508.3427870013
  },
  "format": "PNG",
  "storageFormat": "esriMapCacheStorageModeCompactV2",
  "compressionQuality": 0,
  "packetSize": 128,
  "spatialReference": {
   "latestWkid": 3857,
   "wkid": 102100
  },
  "rows": 256,
  "dpi": 96,
  "cols": 256
 },
 "units": "esriMeters",
 "type": "MapServer",
 "exportTilesAllowed": false,
 "layers": [
  {
   "serviceItemId": "e21b8c4b0bf146a3a28e35bf3bf75b46",
   "maxScale": 0,
   "legend": [
    {
     "layerId": 0,
     "imageData": "iVBORw0KGgoAAAANSUhEUgAAABQAAAAUCAYAAACNiR0NAAAACXBIWXMAAA7EAAAOxAGVKw4bAAAAL0lEQVQ4jWNhoDJgGTVw1MBha2BGRsZ/ahg2Y8YMRhYYgxoGMjAMmTAcNXCYGwgAKUsGGh9+98kAAAAASUVORK5CYII=",
     "groupId": "0",
     "values": [
      1359194.98100099992
     ],
     "width": 20,
     "label": "0 - 1.359.195",
     "layerName": "Rodovias",
     "contentType": "image/png",
     "height": 20
    },
    {
     "layerId": 0,
     "imageData": "iVBORw0KGgoAAAANSUhEUgAAABQAAAAUCAYAAACNiR0NAAAACXBIWXMAAA7EAAAOxAGVKw4bAAAAMUlEQVQ4jWNhoDJgGTVw1MDBYmBGRsZ/ahg2Y8YMRtq4cMaMGYxUNZCaYNTAUQPJAABtWgYaJL+UMQAAAABJRU5ErkJggg==",
     "groupId": "0",
     "values": [
      4772824.27091300022
     ],
     "width": 20,
     "label": "1.359.195 - 4.772.824",
     "layerName": "Rodovias",
     "contentType": "image/png",
     "height": 20
    },
    {
     "layerId": 0,
     "imageData": "iVBORw0KGgoAAAANSUhEUgAAABQAAAAUCAYAAACNiR0NAAAACXBIWXMAAA7EAAAOxAGVKw4bAAAAQElEQVQ4jWNhoDJgGTVw1EAKDMzIyPhPiUEzZsxghBtIqWEwM2bMmMFIGy/PmDGDkapeRhagFAyhZDNq4OAxEABNehIacVQjTAAAAABJRU5ErkJggg==",
     "groupId": "0",
     "values": [
      13111938.0540149994
     ],
     "width": 20,
     "label": "4.772.824 - 13.111.938",
     "layerName": "Rodovias",
     "contentType": "image/png",
     "height": 20
    },
    {
     "layerId": 0,
     "imageData": "iVBORw0KGgoAAAANSUhEUgAAABQAAAAUCAYAAACNiR0NAAAACXBIWXMAAA7EAAAOxAGVKw4bAAAAL0lEQVQ4jWNhoDJgGTVw1EAyDMzIyPhPVQOpadgQMXDGjBmMVDWQmoaNGjhSDAQA9HsEUY8r8a8AAAAASUVORK5CYII=",
     "groupId": "0",
     "values": [
      47207012.9342290014
     ],
     "width": 20,
     "label": "13.111.938 - 47.207.013",
     "layerName": "Rodovias",
     "contentType": "image/png",
     "height": 20
    },
    {
     "layerId": 0,
     "imageData": "iVBORw0KGgoAAAANSUhEUgAAABQAAAAUCAYAAACNiR0NAAAACXBIWXMAAA7EAAAOxAGVKw4bAAAAL0lEQVQ4jWNhoDJgGTVwJBiYkZHxn6oGUtOwUQOpZOCMGTMYqWogNQ0bNXCQGggAF1gEUZgoeIwAAAAASUVORK5CYII=",
     "groupId": "0",
     "values": [
      159931107.671407014
     ],
     "width": 20,
     "label": "47.207.013 - 159.931.108",
     "layerName": "Rodovias",
     "contentType": "image/png",
     "height": 20
    }
   ],
   "defaultVisibility": true,
   "type": "Feature Layer",
   "layerId": 0,
   "subLayerIds": null,
   "name": "Rodovias",
   "id": 0,
   "minScale": 0,
   "supportsDynamicLegends": true,
   "layerName": "Rodovias",
   "parentLayerId": -1,
   "geometryType": "esriGeometryPolyline"
  }
 ],
 "minScale": 0,
 "mapName": "Cenario6_Veiculos_Onibus_Automoveis_Total",
 "spatialReference": {
  "falseM": -100000,
  "xyTolerance": 0.001,
  "mUnits": 10000,
  "zUnits": 10000,
  "latestWkid": 3857,
  "zTolerance": 0.001,
  "wkid": 102100,
  "xyUnits": 10000,
  "mTolerance": 0.001,
  "falseX": -20037700,
  "falseY": -30241100,
  "falseZ": -100000
 },
 "tileImageInfo": {
  "bandCount": 1,
  "lercError": 0,
  "format": "PNG",
  "compressionQuality": 0
 },
 "fullExtent": {
  "ymin": -7614417.01700000092,
  "xmin": -20037507.0672000013,
  "ymax": 6824509.18680000305,
  "xmax": 20037507.0671999976,
  "spatialReference": {
   "falseM": -100000,
   "xyTolerance": 0.001,
   "mUnits": 10000,
   "zUnits": 10000,
   "latestWkid": 3857,
   "zTolerance": 0.001,
   "wkid": 102100,
   "xyUnits": 10000,
   "mTolerance": 0.001,
   "falseX": -20037700,
   "falseY": -30241100,
   "falseZ": -100000
  }
 },
 "supportedExtensions": "",
 "serviceItemId": "e21b8c4b0bf146a3a28e35bf3bf75b46",
 "capabilities": "TilesOnly,Tilemap",
 "maxScale": 0,
 "singleFusedMapCache": true,
 "version": 1,
 "storageInfo": {
  "storageFormat": "esriMapCacheStorageModeCompactV2",
  "packetSize": 128
 },
 "resampling": true,
 "currentVersion": 12.1,
 "maxExportTilesCount": 0,
 "tileBundlesPath": "./tile",
 "maxLOD": 11,
 "minLOD": 0,
 "initialExtent": {
  "ymin": -4751824.1004440356,
  "xmin": -16639940.3036117684,
  "ymax": 1966761.33895885642,
  "xmax": 7099061.582278451,
  "spatialReference": {
   "falseM": -100000,
   "xyTolerance": 0.001,
   "mUnits": 10000,
   "zUnits": 10000,
   "latestWkid": 3857,
   "zTolerance": 0.001,
   "wkid": 102100,
   "xyUnits": 10000,
   "mTolerance": 0.001,
   "falseX": -20037700,
   "falseY": -30241100,
   "falseZ": -100000
  }
 },
 "name": "Cenario6_Veiculos_Onibus_Automoveis_Total",
 "serviceDescription": ""
}
