{
 "tileInfo": {
  "lods": [
   {
    "level": 0,
    "scale": 591657527.591555,
    "resolution": 156543.03392799999
   },
   {
    "level": 1,
    "scale": 295828763.795777023,
    "resolution": 78271.5169639998931
   },
   {
    "level": 2,
    "scale": 147914381.897888988,
    "resolution": 39135.7584820000993
   },
   {
    "level": 3,
    "scale": 73957190.9489440024,
    "resolution": 19567.8792409999005
   },
   {
    "level": 4,
    "scale": 36978595.4744720012,
    "resolution": 9783.93962049995935
   },
   {
    "level": 5,
    "scale": 18489297.7372360006,
    "resolution": 4891.96981024997967
   },
   {
    "level": 6,
    "scale": 9244648.8686180003,
    "resolution": 2445.98490512498984
   },
   {
    "level": 7,
    "scale": 4622324.43430900015,
    "resolution": 1222.99245256248992
   },
   {
    "level": 8,
    "scale": 2311162.21715500019,
    "resolution": 611.496226281380018
   },
   {
    "level": 9,
    "scale": 1155581.108577,
    "resolution": 305.748113140558019
   },
   {
    "level": 10,
    "scale": 577790.554288999992,
    "resolution": 152.874056570411
   },
   {
    "level": 11,
    "scale": 288895.277143999992,
    "resolution": 76.437028285073197
   },
   {
    "level": 12,
    "scale": 144447.638572,
    "resolution": 38.218514142536598
   },
   {
    "level": 13,
    "scale": 72223.8192859999981,
    "resolution": 19.109257071268299
   },
   {
    "level": 14,
    "scale": 36111.9096429999991,
    "resolution": 9.5546285356341496
   },
   {
    "level": 15,
    "scale": 18055.954822,
    "resolution": 4.7773142679493699
   },
   {
    "level": 16,
    "scale": 9027.97741099999985,
    "resolution": 2.38865713397468
   },
   {
    "level": 17,
    "scale": 4513.98870499999975,
    "resolution": 1.1943285668550501
   },
   {
    "level": 18,
    "scale": 2256.994353,
    "resolution": 0.59716428355981699
   },
   {
    "level": 19,
    "scale": 1128.49717600000008,
    "resolution": 0.29858214164761698
   },
   {
    "level": 20,
    "scale": 564.248588000000041,
    "resolution": 0.14929107082380833
   },
   {
    "level": 21,
    "scale": 282.12429400000002,
    "resolution": 0.074645535411904163
   },
   {
    "level": 22,
    "scale": 141.06214700000001,
    "resolution": 0.037322767705952081
   },
   {
    "level": 23,
    "scale": 70.531073500000005,
    "resolution": 0.018661383852976041
   }
  ],
  "bandCount": 1,
  "lercError": 0,
  "origin": {
   "x": -20037508.3427870013,
   "y": 20037508.3427870013
  },
  "format": "PNG",
  "storageFormat": "esriMapCacheStorageModeCompactV2",
  "compressionQuality": 0,
  "packetSize": 128,
  "spatialReference": {
   "latestWkid": 3857,
   "wkid": 102100
  },
  "rows": 256,
  "dpi": 96,
  "cols": 256
 },
 "units": "esriMeters",
 "type": "MapServer",
 "exportTilesAllowed": false,
 "layers": [
  {
   "serviceItemId": "bee0bca82b984d7f9f001206fe75d742",
   "maxScale": 0,
   "legend": [
    {
     "layerId": 0,
     "imageData": "iVBORw0KGgoAAAANSUhEUgAAABQAAAAUCAYAAACNiR0NAAAACXBIWXMAAA7EAAAOxAGVKw4bAAAALElEQVQ4jWNhoDJgGTVw1MDha2DMs/9UMW2JFCMLjEEVAxmGThiOGji8DQQAX2kEEFtFDGQAAAAASUVORK5CYII=",
     "groupId": "0",
     "values": [
      29948.508198
     ],
     "width": 20,
     "label": "0 - 29.949",
     "layerName": "Cabotagem",
     "contentType": "image/png",
     "height": 20
    },
    {
     "layerId": 0,
     "imageData": "iVBORw0KGgoAAAANSUhEUgAAABQAAAAUCAYAAACNiR0NAAAACXBIWXMAAA7EAAAOxAGVKw4bAAAALklEQVQ4jWNhoDJgGTVw1MBBY2DMs/9UMW2JFCONXLhEipG6BlIRjBo4aiAZAABSeAQQuRPbEwAAAABJRU5ErkJggg==",
     "groupId": "0",
     "values": [
      111643.308917
     ],
     "width": 20,
     "label": "29.949 - 111.643",
     "layerName": "Cabotagem",
     "contentType": "image/png",
     "height": 20
    },
    {
     "layerId": 0,
     "imageData": "iVBORw0KGgoAAAANSUhEUgAAABQAAAAUCAYAAACNiR0NAAAACXBIWXMAAA7EAAAOxAGVKw4bAAAAO0lEQVQ4jWNhoDJgGTVw1EBKDIx59p8ik5ZIMSIMpNQwmBlLpBhp5OUlUozU9TKSAKVgKCWbUQMHjYEArA8NEK+StI8AAAAASUVORK5CYII=",
     "groupId": "0",
     "values": [
      263772.477232999983
     ],
     "width": 20,
     "label": "111.643 - 263.772",
     "layerName": "Cabotagem",
     "contentType": "image/png",
     "height": 20
    },
    {
     "layerId": 0,
     "imageData": "iVBORw0KGgoAAAANSUhEUgAAABQAAAAUCAYAAACNiR0NAAAACXBIWXMAAA7EAAAOxAGVKw4bAAAAK0lEQVQ4jWNhoDJgGTVw1EByDIx59p+6BlIZDAUDl0gxUtdAKoNRA0eCgQB6BQNRNfnHxAAAAABJRU5ErkJggg==",
     "groupId": "0",
     "values": [
      549099.398370999959
     ],
     "width": 20,
     "label": "263.772 - 549.099",
     "layerName": "Cabotagem",
     "contentType": "image/png",
     "height": 20
    },
    {
     "layerId": 0,
     "imageData": "iVBORw0KGgoAAAANSUhEUgAAABQAAAAUCAYAAACNiR0NAAAACXBIWXMAAA7EAAAOxAGVKw4bAAAAK0lEQVQ4jWNhoDJgGTVwRBgY8+w/dQ2kMhg1kBoGLpFipK6BVAajBg5CAwH0JwNRUhRfWQAAAABJRU5ErkJggg==",
     "groupId": "0",
     "values": [
      2477890.26281999983
     ],
     "width": 20,
     "label": "549.099 - 2.477.890",
     "layerName": "Cabotagem",
     "contentType": "image/png",
     "height": 20
    }
   ],
   "defaultVisibility": true,
   "type": "Feature Layer",
   "layerId": 0,
   "subLayerIds": null,
   "name": "Cabotagem",
   "id": 0,
   "minScale": 0,
   "supportsDynamicLegends": true,
   "layerName": "Cabotagem",
   "parentLayerId": -1,
   "geometryType": "esriGeometryPolyline"
  },
  {
   "serviceItemId": "bee0bca82b984d7f9f001206fe75d742",
   "maxScale": 0,
   "legend": [
    {
     "layerId": 1,
     "imageData": "iVBORw0KGgoAAAANSUhEUgAAABQAAAAUCAYAAACNiR0NAAAACXBIWXMAAA7EAAAOxAGVKw4bAAAALElEQVQ4jWNhoDJgGTVw1MDha+DR//+pYpo1IyMLjEEVAxmGThiOGji8DQQAFN0Djqxwv/wAAAAASUVORK5CYII=",
     "groupId": "0",
     "values": [
      29948.508198
     ],
     "width": 20,
     "label": "0 - 29.949",
     "layerName": "Hidrovias",
     "contentType": "image/png",
     "height": 20
    },
    {
     "layerId": 1,
     "imageData": "iVBORw0KGgoAAAANSUhEUgAAABQAAAAUCAYAAACNiR0NAAAACXBIWXMAAA7EAAAOxAGVKw4bAAAALklEQVQ4jWNhoDJgGTVw1MBBY+DR//+pYpo1IyONXGjNyEhdA6kIRg0cNZAMAAAH7AOOudASwAAAAABJRU5ErkJggg==",
     "groupId": "0",
     "values": [
      111643.308917
     ],
     "width": 20,
     "label": "29.949 - 111.643",
     "layerName": "Hidrovias",
     "contentType": "image/png",
     "height": 20
    },
    {
     "layerId": 1,
     "imageData": "iVBORw0KGgoAAAANSUhEUgAAABQAAAAUCAYAAACNiR0NAAAACXBIWXMAAA7EAAAOxAGVKw4bAAAAO0lEQVQ4jWNhoDJgGTVw1EBKDDz6/z9FJlkzMiIMpNQwmBnWjIw08rI1IyN1vYwkQCkYSslm1MBBYyAA/WkMjvKqaxkAAAAASUVORK5CYII=",
     "groupId": "0",
     "values": [
      263772.477232999983
     ],
     "width": 20,
     "label": "111.643 - 263.772",
     "layerName": "Hidrovias",
     "contentType": "image/png",
     "height": 20
    },
    {
     "layerId": 1,
     "imageData": "iVBORw0KGgoAAAANSUhEUgAAABQAAAAUCAYAAACNiR0NAAAACXBIWXMAAA7EAAAOxAGVKw4bAAAAK0lEQVQ4jWNhoDJgGTVw1EByDDz6/z91DaQyGAoGWjMyUtdAKoNRA0eCgQAenANR9VCyNgAAAABJRU5ErkJggg==",
     "groupId": "0",
     "values": [
      549099.398370999959
     ],
     "width": 20,
     "label": "263.772 - 549.099",
     "layerName": "Hidrovias",
     "contentType": "image/png",
     "height": 20
    },
    {
     "layerId": 1,
     "imageData": "iVBORw0KGgoAAAANSUhEUgAAABQAAAAUCAYAAACNiR0NAAAACXBIWXMAAA7EAAAOxAGVKw4bAAAAK0lEQVQ4jWNhoDJgGTVwRBh49P9/6hpIZTBqIDUMtGZkpK6BVAajBg5CAwHrAgNRW7W08wAAAABJRU5ErkJggg==",
     "groupId": "0",
     "values": [
      2477890.26281999983
     ],
     "width": 20,
     "label": "549.099 - 2.477.890",
     "layerName": "Hidrovias",
     "contentType": "image/png",
     "height": 20
    }
   ],
   "defaultVisibility": true,
   "type": "Feature Layer",
   "layerId": 1,
   "subLayerIds": null,
   "name": "Hidrovias",
   "id": 1,
   "minScale": 0,
   "supportsDynamicLegends": true,
   "layerName": "Hidrovias",
   "parentLayerId": -1,
   "geometryType": "esriGeometryPolyline"
  },
  {
   "serviceItemId": "bee0bca82b984d7f9f001206fe75d742",
   "maxScale": 0,
   "legend": [
    {
     "layerId": 2,
     "imageData": "iVBORw0KGgoAAAANSUhEUgAAABQAAAAUCAYAAACNiR0NAAAACXBIWXMAAA7EAAAOxAGVKw4bAAAAL0lEQVQ4jWNhoDJgGTVw1MBha6BaMcN/ahh2q5eBkQXGoIaBDAxDJgxHDRzmBgIAED4EuSkuyYoAAAAASUVORK5CYII=",
     "groupId": "0",
     "values": [
      29948.508198
     ],
     "width": 20,
     "label": "0 - 29.949",
     "layerName": "Ferrovias",
     "contentType": "image/png",
     "height": 20
    },
    {
     "layerId": 2,
     "imageData": "iVBORw0KGgoAAAANSUhEUgAAABQAAAAUCAYAAACNiR0NAAAACXBIWXMAAA7EAAAOxAGVKw4bAAAAMUlEQVQ4jWNhoDJgGTVw1MDBYqBaMcN/ahh2q5eBkTYuvNXLwEhVA6kJRg0cNZAMAAADTQS5xuXJVQAAAABJRU5ErkJggg==",
     "groupId": "0",
     "values": [
      111643.308917
     ],
     "width": 20,
     "label": "29.949 - 111.643",
     "layerName": "Ferrovias",
     "contentType": "image/png",
     "height": 20
    },
    {
     "layerId": 2,
     "imageData": "iVBORw0KGgoAAAANSUhEUgAAABQAAAAUCAYAAACNiR0NAAAACXBIWXMAAA7EAAAOxAGVKw4bAAAAP0lEQVQ4jWNhoDJgGTVw1EAKDFQrZvhPiUG3ehkY4QZSahjMjFu9DIy08fKtXgZGqnoZWYBSMISSzaiBg8dAAJgqDbmBlz1rAAAAAElFTkSuQmCC",
     "groupId": "0",
     "values": [
      263772.477232999983
     ],
     "width": 20,
     "label": "111.643 - 263.772",
     "layerName": "Ferrovias",
     "contentType": "image/png",
     "height": 20
    },
    {
     "layerId": 2,
     "imageData": "iVBORw0KGgoAAAANSUhEUgAAABQAAAAUCAYAAACNiR0NAAAACXBIWXMAAA7EAAAOxAGVKw4bAAAALklEQVQ4jWNhoDJgGTVw1EAyDFQrZvhPVQOpadgQMfBWLwMjVQ2kpmGjBo4UAwGmEgNR/7lhYwAAAABJRU5ErkJggg==",
     "groupId": "0",
     "values": [
      549099.398370999959
     ],
     "width": 20,
     "label": "263.772 - 549.099",
     "layerName": "Ferrovias",
     "contentType": "image/png",
     "height": 20
    },
    {
     "layerId": 2,
     "imageData": "iVBORw0KGgoAAAANSUhEUgAAABQAAAAUCAYAAACNiR0NAAAACXBIWXMAAA7EAAAOxAGVKw4bAAAAL0lEQVQ4jWNhoDJgGTVwJBioVszwn6oGUtOwUQOpZOCtXgZGqhpITcNGDRykBgIAtUIDUUno5wEAAAAASUVORK5CYII=",
     "groupId": "0",
     "values": [
      2477890.26281999983
     ],
     "width": 20,
     "label": "549.099 - 2.477.890",
     "layerName": "Ferrovias",
     "contentType": "image/png",
     "height": 20
    }
   ],
   "defaultVisibility": true,
   "type": "Feature Layer",
   "layerId": 2,
   "subLayerIds": null,
   "name": "Ferrovias",
   "id": 2,
   "minScale": 0,
   "supportsDynamicLegends": true,
   "layerName": "Ferrovias",
   "parentLayerId": -1,
   "geometryType": "esriGeometryPolyline"
  },
  {
   "serviceItemId": "bee0bca82b984d7f9f001206fe75d742",
   "maxScale": 0,
   "legend": [
    {
     "layerId": 3,
     "imageData": "iVBORw0KGgoAAAANSUhEUgAAABQAAAAUCAYAAACNiR0NAAAACXBIWXMAAA7EAAAOxAGVKw4bAAAAL0lEQVQ4jWNhoDJgGTVw1MBha2BGRsZ/ahg2Y8YMRhYYgxoGMjAMmTAcNXCYGwgAKUsGGh9+98kAAAAASUVORK5CYII=",
     "groupId": "0",
     "values": [
      29948.508198
     ],
     "width": 20,
     "label": "0 - 29.949",
     "layerName": "Rodovias",
     "contentType": "image/png",
     "height": 20
    },
    {
     "layerId": 3,
     "imageData": "iVBORw0KGgoAAAANSUhEUgAAABQAAAAUCAYAAACNiR0NAAAACXBIWXMAAA7EAAAOxAGVKw4bAAAAMUlEQVQ4jWNhoDJgGTVw1MDBYmBGRsZ/ahg2Y8YMRtq4cMaMGYxUNZCaYNTAUQPJAABtWgYaJL+UMQAAAABJRU5ErkJggg==",
     "groupId": "0",
     "values": [
      111643.308917
     ],
     "width": 20,
     "label": "29.949 - 111.643",
     "layerName": "Rodovias",
     "contentType": "image/png",
     "height": 20
    },
    {
     "layerId": 3,
     "imageData": "iVBORw0KGgoAAAANSUhEUgAAABQAAAAUCAYAAACNiR0NAAAACXBIWXMAAA7EAAAOxAGVKw4bAAAAQElEQVQ4jWNhoDJgGTVw1EAKDMzIyPhPiUEzZsxghBtIqWEwM2bMmMFIGy/PmDGDkapeRhagFAyhZDNq4OAxEABNehIacVQjTAAAAABJRU5ErkJggg==",
     "groupId": "0",
     "values": [
      263772.477232999983
     ],
     "width": 20,
     "label": "111.643 - 263.772",
     "layerName": "Rodovias",
     "contentType": "image/png",
     "height": 20
    },
    {
     "layerId": 3,
     "imageData": "iVBORw0KGgoAAAANSUhEUgAAABQAAAAUCAYAAACNiR0NAAAACXBIWXMAAA7EAAAOxAGVKw4bAAAAL0lEQVQ4jWNhoDJgGTVw1EAyDMzIyPhPVQOpadgQMXDGjBmMVDWQmoaNGjhSDAQA9HsEUY8r8a8AAAAASUVORK5CYII=",
     "groupId": "0",
     "values": [
      549099.398370999959
     ],
     "width": 20,
     "label": "263.772 - 549.099",
     "layerName": "Rodovias",
     "contentType": "image/png",
     "height": 20
    },
    {
     "layerId": 3,
     "imageData": "iVBORw0KGgoAAAANSUhEUgAAABQAAAAUCAYAAACNiR0NAAAACXBIWXMAAA7EAAAOxAGVKw4bAAAAL0lEQVQ4jWNhoDJgGTVwJBiYkZHxn6oGUtOwUQOpZOCMGTMYqWogNQ0bNXCQGggAF1gEUZgoeIwAAAAASUVORK5CYII=",
     "groupId": "0",
     "values": [
      2477890.26281999983
     ],
     "width": 20,
     "label": "549.099 - 2.477.890",
     "layerName": "Rodovias",
     "contentType": "image/png",
     "height": 20
    }
   ],
   "defaultVisibility": true,
   "type": "Feature Layer",
   "layerId": 3,
   "subLayerIds": null,
   "name": "Rodovias",
   "id": 3,
   "minScale": 0,
   "supportsDynamicLegends": true,
   "layerName": "Rodovias",
   "parentLayerId": -1,
   "geometryType": "esriGeometryPolyline"
  }
 ],
 "minScale": 0,
 "mapName": "Cenario7_Veiculos_OGSM",
 "spatialReference": {
  "falseM": -100000,
  "xyTolerance": 0.001,
  "mUnits": 10000,
  "zUnits": 10000,
  "latestWkid": 3857,
  "zTolerance": 0.001,
  "wkid": 102100,
  "xyUnits": 10000,
  "mTolerance": 0.001,
  "falseX": -20037700,
  "falseY": -30241100,
  "falseZ": -100000
 },
 "tileImageInfo": {
  "bandCount": 1,
  "lercError": 0,
  "format": "PNG",
  "compressionQuality": 0
 },
 "fullExtent": {
  "ymin": -7614417.01700000092,
  "xmin": -20037507.0672000013,
  "ymax": 6824509.18680000305,
  "xmax": 20037507.0671999976,
  "spatialReference": {
   "falseM": -100000,
   "xyTolerance": 0.001,
   "mUnits": 10000,
   "zUnits": 10000,
   "latestWkid": 3857,
   "zTolerance": 0.001,
   "wkid": 102100,
   "xyUnits": 10000,
   "mTolerance": 0.001,
   "falseX": -20037700,
   "falseY": -30241100,
   "falseZ": -100000
  }
 },
 "supportedExtensions": "",
 "serviceItemId": "bee0bca82b984d7f9f001206fe75d742",
 "capabilities": "TilesOnly,Tilemap",
 "maxScale": 0,
 "singleFusedMapCache": true,
 "version": 1,
 "storageInfo": {
  "storageFormat": "esriMapCacheStorageModeCompactV2",
  "packetSize": 128
 },
 "resampling": true,
 "currentVersion": 12.1,
 "maxExportTilesCount": 0,
 "tileBundlesPath": "./tile",
 "maxLOD": 11,
 "minLOD": 0,
 "initialExtent": {
  "ymin": -7614417.01700000092,
  "xmin": -20037507.0672000013,
  "ymax": 6824509.18680000305,
  "xmax": 20037507.0671999976,
  "spatialReference": {
   "falseM": -100000,
   "xyTolerance": 0.001,
   "mUnits": 10000,
   "zUnits": 10000,
   "latestWkid": 3857,
   "zTolerance": 0.001,
   "wkid": 102100,
   "xyUnits": 10000,
   "mTolerance": 0.001,
   "falseX": -20037700,
   "falseY": -30241100,
   "falseZ": -100000
  }
 },
 "name": "Cenario7_Veiculos_OGSM",
 "serviceDescription": ""
}
