{
 "tileInfo": {
  "lods": [
   {
    "level": 0,
    "scale": 591657527.591555,
    "resolution": 156543.03392799999
   },
   {
    "level": 1,
    "scale": 295828763.795777023,
    "resolution": 78271.5169639998931
   },
   {
    "level": 2,
    "scale": 147914381.897888988,
    "resolution": 39135.7584820000993
   },
   {
    "level": 3,
    "scale": 73957190.9489440024,
    "resolution": 19567.8792409999005
   },
   {
    "level": 4,
    "scale": 36978595.4744720012,
    "resolution": 9783.93962049995935
   },
   {
    "level": 5,
    "scale": 18489297.7372360006,
    "resolution": 4891.96981024997967
   },
   {
    "level": 6,
    "scale": 9244648.8686180003,
    "resolution": 2445.98490512498984
   },
   {
    "level": 7,
    "scale": 4622324.43430900015,
    "resolution": 1222.99245256248992
   },
   {
    "level": 8,
    "scale": 2311162.21715500019,
    "resolution": 611.496226281380018
   },
   {
    "level": 9,
    "scale": 1155581.108577,
    "resolution": 305.748113140558019
   },
   {
    "level": 10,
    "scale": 577790.554288999992,
    "resolution": 152.874056570411
   },
   {
    "level": 11,
    "scale": 288895.277143999992,
    "resolution": 76.437028285073197
   },
   {
    "level": 12,
    "scale": 144447.638572,
    "resolution": 38.218514142536598
   },
   {
    "level": 13,
    "scale": 72223.8192859999981,
    "resolution": 19.109257071268299
   },
   {
    "level": 14,
    "scale": 36111.9096429999991,
    "resolution": 9.5546285356341496
   },
   {
    "level": 15,
    "scale": 18055.954822,
    "resolution": 4.7773142679493699
   },
   {
    "level": 16,
    "scale": 9027.97741099999985,
    "resolution": 2.38865713397468
   },
   {
    "level": 17,
    "scale": 4513.98870499999975,
    "resolution": 1.1943285668550501
   },
   {
    "level": 18,
    "scale": 2256.994353,
    "resolution": 0.59716428355981699
   },
   {
    "level": 19,
    "scale": 1128.49717600000008,
    "resolution": 0.29858214164761698
   },
   {
    "level": 20,
    "scale": 564.248588000000041,
    "resolution": 0.14929107082380833
   },
   {
    "level": 21,
    "scale": 282.12429400000002,
    "resolution": 0.074645535411904163
   },
   {
    "level": 22,
    "scale": 141.06214700000001,
    "resolution": 0.037322767705952081
   },
   {
    "level": 23,
    "scale": 70.531073500000005,
    "resolution": 0.018661383852976041
   }
  ],
  "bandCount": 1,
  "lercError": 0,
  "origin": {
   "x": -20037508.3427870013,
   "y": 20037508.3427870013
  },
  "format": "PNG",
  "storageFormat": "esriMapCacheStorageModeCompactV2",
  "compressionQuality": 0,
  "packetSize": 128,
  "spatialReference": {
   "latestWkid": 3857,
   "wkid": 102100
  },
  "rows": 256,
  "dpi": 96,
  "cols": 256
 },
 "units": "esriMeters",
 "type": "MapServer",
 "exportTilesAllowed": false,
 "layers": [
  {
   "serviceItemId": "53a3c05ff776458a8e5f7d206100377e",
   "maxScale": 0,
   "legend": [
    {
     "layerId": 0,
     "imageData": "iVBORw0KGgoAAAANSUhEUgAAABQAAAAUCAYAAACNiR0NAAAACXBIWXMAAA7EAAAOxAGVKw4bAAAAO0lEQVQ4jWNhoDJgGTWQYsBCuRGoYNRAaoVhzLP/VDCLgWGJFCPEwCVSjFQxkGE0lqkBWKhiCsOINhAAX2kEEAPvgVUAAAAASUVORK5CYII=",
     "groupId": "0",
     "values": [
      18434.9403639999982
     ],
     "width": 20,
     "label": "0 - 18.435",
     "layerName": "Cabotagem",
     "contentType": "image/png",
     "height": 20
    },
    {
     "layerId": 0,
     "imageData": "iVBORw0KGgoAAAANSUhEUgAAABQAAAAUCAYAAACNiR0NAAAACXBIWXMAAA7EAAAOxAGVKw4bAAAAOUlEQVQ4jWNhoDJgGTWQYsBCuRGoYMQaGPPsP1VMWyLFSCMXLpFipK6BVAQs1DQMBEYNpBwM/jAEAFJ4BBAt5M0bAAAAAElFTkSuQmCC",
     "groupId": "0",
     "values": [
      63841.1758029999983
     ],
     "width": 20,
     "label": "18.435 - 63.841",
     "layerName": "Cabotagem",
     "contentType": "image/png",
     "height": 20
    },
    {
     "layerId": 0,
     "imageData": "iVBORw0KGgoAAAANSUhEUgAAABQAAAAUCAYAAACNiR0NAAAACXBIWXMAAA7EAAAOxAGVKw4bAAAAP0lEQVQ4jWNhoDJgGTWQYsAykg2MefafIpOWSDEiDKTUMJgZS6QYaeTlJVKM1PUyksBISjZUAizUMohh5BoIAKwPDRAxjU5uAAAAAElFTkSuQmCC",
     "groupId": "0",
     "values": [
      156904.863113
     ],
     "width": 20,
     "label": "63.841 - 156.905",
     "layerName": "Cabotagem",
     "contentType": "image/png",
     "height": 20
    },
    {
     "layerId": 0,
     "imageData": "iVBORw0KGgoAAAANSUhEUgAAABQAAAAUCAYAAACNiR0NAAAACXBIWXMAAA7EAAAOxAGVKw4bAAAAMElEQVQ4jWNhoDJgGTWQYsAyEg2MefafugZSGbAMAQOXSDFS10AqA5ZRAykGgz8MAXoFA1FNLadZAAAAAElFTkSuQmCC",
     "groupId": "0",
     "values": [
      330873.474931999983
     ],
     "width": 20,
     "label": "156.905 - 330.873",
     "layerName": "Cabotagem",
     "contentType": "image/png",
     "height": 20
    },
    {
     "layerId": 0,
     "imageData": "iVBORw0KGgoAAAANSUhEUgAAABQAAAAUCAYAAACNiR0NAAAACXBIWXMAAA7EAAAOxAGVKw4bAAAAMUlEQVQ4jWNhoDJgGTVwRIRhzLP/1DWQyoBl1ECKAQvDEilG6hpIZcAyaiDFgOphCAD0JwNRHfCk6gAAAABJRU5ErkJggg==",
     "groupId": "0",
     "values": [
      1837877.751924
     ],
     "width": 20,
     "label": "330.873 - 1.837.878",
     "layerName": "Cabotagem",
     "contentType": "image/png",
     "height": 20
    }
   ],
   "defaultVisibility": true,
   "type": "Feature Layer",
   "layerId": 0,
   "subLayerIds": null,
   "name": "Cabotagem",
   "id": 0,
   "minScale": 0,
   "supportsDynamicLegends": true,
   "layerName": "Cabotagem",
   "parentLayerId": -1,
   "geometryType": "esriGeometryPolyline"
  },
  {
   "serviceItemId": "53a3c05ff776458a8e5f7d206100377e",
   "maxScale": 0,
   "legend": [
    {
     "layerId": 1,
     "imageData": "iVBORw0KGgoAAAANSUhEUgAAABQAAAAUCAYAAACNiR0NAAAACXBIWXMAAA7EAAAOxAGVKw4bAAAAO0lEQVQ4jWNhoDJgGTWQYsBCuRGoYNRAaoXh0f//qWAWA4M1IyPEQGtGRqoYyDAay9QALFQxhWFEGwgAFN0Djgkj6OQAAAAASUVORK5CYII=",
     "groupId": "0",
     "values": [
      18434.9403639999982
     ],
     "width": 20,
     "label": "0 - 18.435",
     "layerName": "Hidrovias",
     "contentType": "image/png",
     "height": 20
    },
    {
     "layerId": 1,
     "imageData": "iVBORw0KGgoAAAANSUhEUgAAABQAAAAUCAYAAACNiR0NAAAACXBIWXMAAA7EAAAOxAGVKw4bAAAAOUlEQVQ4jWNhoDJgGTWQYsBCuRGoYMQaePT/f6qYZs3ISCMXWjMyUtdAKgIWahoGAqMGUg4GfxgCAAfsA45zTLzsAAAAAElFTkSuQmCC",
     "groupId": "0",
     "values": [
      63841.1758029999983
     ],
     "width": 20,
     "label": "18.435 - 63.841",
     "layerName": "Hidrovias",
     "contentType": "image/png",
     "height": 20
    },
    {
     "layerId": 1,
     "imageData": "iVBORw0KGgoAAAANSUhEUgAAABQAAAAUCAYAAACNiR0NAAAACXBIWXMAAA7EAAAOxAGVKw4bAAAAP0lEQVQ4jWNhoDJgGTWQYsAykg08+v8/RSZZMzIiDKTUMJgZ1oyMNPKyNSMjdb2MJDCSkg2VAAu1DGIYuQYCAP1pDI7ZW6bbAAAAAElFTkSuQmCC",
     "groupId": "0",
     "values": [
      156904.863113
     ],
     "width": 20,
     "label": "63.841 - 156.905",
     "layerName": "Hidrovias",
     "contentType": "image/png",
     "height": 20
    },
    {
     "layerId": 1,
     "imageData": "iVBORw0KGgoAAAANSUhEUgAAABQAAAAUCAYAAACNiR0NAAAACXBIWXMAAA7EAAAOxAGVKw4bAAAAMElEQVQ4jWNhoDJgGTWQYsAyEg08+v8/dQ2kMmAZAgZaMzJS10AqA5ZRAykGgz8MAR6cA1EejpVmAAAAAElFTkSuQmCC",
     "groupId": "0",
     "values": [
      330873.474931999983
     ],
     "width": 20,
     "label": "156.905 - 330.873",
     "layerName": "Hidrovias",
     "contentType": "image/png",
     "height": 20
    },
    {
     "layerId": 1,
     "imageData": "iVBORw0KGgoAAAANSUhEUgAAABQAAAAUCAYAAACNiR0NAAAACXBIWXMAAA7EAAAOxAGVKw4bAAAAMUlEQVQ4jWNhoDJgGTVwRITh0f//qWsglQHLqIEUAxYGa0ZG6hpIZcAyaiDFgOphCADrAgNRIcfOzwAAAABJRU5ErkJggg==",
     "groupId": "0",
     "values": [
      1837877.751924
     ],
     "width": 20,
     "label": "330.873 - 1.837.878",
     "layerName": "Hidrovias",
     "contentType": "image/png",
     "height": 20
    }
   ],
   "defaultVisibility": true,
   "type": "Feature Layer",
   "layerId": 1,
   "subLayerIds": null,
   "name": "Hidrovias",
   "id": 1,
   "minScale": 0,
   "supportsDynamicLegends": true,
   "layerName": "Hidrovias",
   "parentLayerId": -1,
   "geometryType": "esriGeometryPolyline"
  },
  {
   "serviceItemId": "53a3c05ff776458a8e5f7d206100377e",
   "maxScale": 0,
   "legend": [
    {
     "layerId": 2,
     "imageData": "iVBORw0KGgoAAAANSUhEUgAAABQAAAAUCAYAAACNiR0NAAAACXBIWXMAAA7EAAAOxAGVKw4bAAAAPElEQVQ4jWNhoDJgGTWQYsBCuRGoYNRAKoWhWjHDfyqYxXCrl4GRBcZgoBJgoZZBMDBqIOWAhQpmDDEDARA+BLlLvAZQAAAAAElFTkSuQmCC",
     "groupId": "0",
     "values": [
      18434.9403639999982
     ],
     "width": 20,
     "label": "0 - 18.435",
     "layerName": "Ferrovias",
     "contentType": "image/png",
     "height": 20
    },
    {
     "layerId": 2,
     "imageData": "iVBORw0KGgoAAAANSUhEUgAAABQAAAAUCAYAAACNiR0NAAAACXBIWXMAAA7EAAAOxAGVKw4bAAAAO0lEQVQ4jWNhoDJgGTWQYsBCuRGoYKQaqFbM8J8aht3qZWCkjQtv9TIwUtVAagIWqprGMGogNcDgjxQAA00EucmXStkAAAAASUVORK5CYII=",
     "groupId": "0",
     "values": [
      63841.1758029999983
     ],
     "width": 20,
     "label": "18.435 - 63.841",
     "layerName": "Ferrovias",
     "contentType": "image/png",
     "height": 20
    },
    {
     "layerId": 2,
     "imageData": "iVBORw0KGgoAAAANSUhEUgAAABQAAAAUCAYAAACNiR0NAAAACXBIWXMAAA7EAAAOxAGVKw4bAAAAQUlEQVQ4jWNhoDJgGTWQYsAygg1UK2b4T4lBt3oZGOEGUmoYzAyQobTx8q1eBkaqehlZYAQlG2oBFqqZxDBiDQQAmCoNucLIqdUAAAAASUVORK5CYII=",
     "groupId": "0",
     "values": [
      156904.863113
     ],
     "width": 20,
     "label": "63.841 - 156.905",
     "layerName": "Ferrovias",
     "contentType": "image/png",
     "height": 20
    },
    {
     "layerId": 2,
     "imageData": "iVBORw0KGgoAAAANSUhEUgAAABQAAAAUCAYAAACNiR0NAAAACXBIWXMAAA7EAAAOxAGVKw4bAAAANElEQVQ4jWNhoDJgGTWQYsAyAg1UK2b4T1UDGagMWAa/gbd6GRipaiADlQHLqIEUg8EfhgCmEgNR/OY73wAAAABJRU5ErkJggg==",
     "groupId": "0",
     "values": [
      330873.474931999983
     ],
     "width": 20,
     "label": "156.905 - 330.873",
     "layerName": "Ferrovias",
     "contentType": "image/png",
     "height": 20
    },
    {
     "layerId": 2,
     "imageData": "iVBORw0KGgoAAAANSUhEUgAAABQAAAAUCAYAAACNiR0NAAAACXBIWXMAAA7EAAAOxAGVKw4bAAAANElEQVQ4jWNhoDJgGTVwJIShWjHDf6oayEBlwDJqIMWA5VYvAyNVDWSgMmAZNZBiQPUwBAC1QgNRLK11EgAAAABJRU5ErkJggg==",
     "groupId": "0",
     "values": [
      1837877.751924
     ],
     "width": 20,
     "label": "330.873 - 1.837.878",
     "layerName": "Ferrovias",
     "contentType": "image/png",
     "height": 20
    }
   ],
   "defaultVisibility": true,
   "type": "Feature Layer",
   "layerId": 2,
   "subLayerIds": null,
   "name": "Ferrovias",
   "id": 2,
   "minScale": 0,
   "supportsDynamicLegends": true,
   "layerName": "Ferrovias",
   "parentLayerId": -1,
   "geometryType": "esriGeometryPolyline"
  },
  {
   "serviceItemId": "53a3c05ff776458a8e5f7d206100377e",
   "maxScale": 0,
   "legend": [
    {
     "layerId": 3,
     "imageData": "iVBORw0KGgoAAAANSUhEUgAAABQAAAAUCAYAAACNiR0NAAAACXBIWXMAAA7EAAAOxAGVKw4bAAAAPElEQVQ4je3QIQ4AMAxCUZZw2B6pt91URTWYJXyFegLCHAPKUSd2AU0fVtU1WOjuwxkwRRc0BdSjwfgMfClLBhqmvLE9AAAAAElFTkSuQmCC",
     "groupId": "0",
     "values": [
      18434.9403639999982
     ],
     "width": 20,
     "label": "0 - 18.435",
     "layerName": "Rodovias",
     "contentType": "image/png",
     "height": 20
    },
    {
     "layerId": 3,
     "imageData": "iVBORw0KGgoAAAANSUhEUgAAABQAAAAUCAYAAACNiR0NAAAACXBIWXMAAA7EAAAOxAGVKw4bAAAAPElEQVQ4jWNhoDJgGTWQYsBCuRGoYKQamJGR8Z8ahs2YMYORNi6cMWMGI1UNpCZgoappDKMGUgMM/kgBAG1aBhqFdNEBAAAAAElFTkSuQmCC",
     "groupId": "0",
     "values": [
      63841.1758029999983
     ],
     "width": 20,
     "label": "18.435 - 63.841",
     "layerName": "Rodovias",
     "contentType": "image/png",
     "height": 20
    },
    {
     "layerId": 3,
     "imageData": "iVBORw0KGgoAAAANSUhEUgAAABQAAAAUCAYAAACNiR0NAAAACXBIWXMAAA7EAAAOxAGVKw4bAAAAQUlEQVQ4jWNhoDJgGTWQYsAygg3MyMj4T4lBM2bMYIQbSKlhMDNAhtLGyzNmzGCkqpeRBUZQsqEWYKGaSQwj1kAATXoSGgKyBWsAAAAASUVORK5CYII=",
     "groupId": "0",
     "values": [
      156904.863113
     ],
     "width": 20,
     "label": "63.841 - 156.905",
     "layerName": "Rodovias",
     "contentType": "image/png",
     "height": 20
    },
    {
     "layerId": 3,
     "imageData": "iVBORw0KGgoAAAANSUhEUgAAABQAAAAUCAYAAACNiR0NAAAACXBIWXMAAA7EAAAOxAGVKw4bAAAANUlEQVQ4jWNhoDJgGTWQYsAyAg3MyMj4T1UDGagMWAa/gTNmzGCkqoEMVAYsowZSDAZ/GAIA9HsEUbaUiXAAAAAASUVORK5CYII=",
     "groupId": "0",
     "values": [
      330873.474931999983
     ],
     "width": 20,
     "label": "156.905 - 330.873",
     "layerName": "Rodovias",
     "contentType": "image/png",
     "height": 20
    },
    {
     "layerId": 3,
     "imageData": "iVBORw0KGgoAAAANSUhEUgAAABQAAAAUCAYAAACNiR0NAAAACXBIWXMAAA7EAAAOxAGVKw4bAAAANElEQVQ4jWNhoDJgGTVwJIRhRkbGf6oayEBlwDJqIMWAZcaMGYxUNZCByoBl1ECKAdXDEAAXWARRgwJSbwAAAABJRU5ErkJggg==",
     "groupId": "0",
     "values": [
      1837877.751924
     ],
     "width": 20,
     "label": "330.873 - 1.837.878",
     "layerName": "Rodovias",
     "contentType": "image/png",
     "height": 20
    }
   ],
   "defaultVisibility": true,
   "type": "Feature Layer",
   "layerId": 3,
   "subLayerIds": null,
   "name": "Rodovias",
   "id": 3,
   "minScale": 0,
   "supportsDynamicLegends": true,
   "layerName": "Rodovias",
   "parentLayerId": -1,
   "geometryType": "esriGeometryPolyline"
  }
 ],
 "minScale": 0,
 "mapName": "Veículos_CGNC",
 "spatialReference": {
  "falseM": -100000,
  "xyTolerance": 0.001,
  "mUnits": 10000,
  "zUnits": 10000,
  "latestWkid": 3857,
  "zTolerance": 0.001,
  "wkid": 102100,
  "xyUnits": 10000,
  "mTolerance": 0.001,
  "falseX": -20037700,
  "falseY": -30241100,
  "falseZ": -100000
 },
 "tileImageInfo": {
  "bandCount": 1,
  "lercError": 0,
  "format": "PNG",
  "compressionQuality": 0
 },
 "fullExtent": {
  "ymin": -7614417.01700000092,
  "xmin": -20037507.0672000013,
  "ymax": 6824509.18680000305,
  "xmax": 20037507.0671999976,
  "spatialReference": {
   "latestWkid": 3857,
   "wkid": 102100
  }
 },
 "supportedExtensions": "",
 "serviceItemId": "53a3c05ff776458a8e5f7d206100377e",
 "capabilities": "TilesOnly,Tilemap",
 "maxScale": 0,
 "singleFusedMapCache": true,
 "version": 1,
 "storageInfo": {
  "storageFormat": "esriMapCacheStorageModeCompactV2",
  "packetSize": 128
 },
 "resampling": true,
 "currentVersion": 12.1,
 "maxExportTilesCount": 0,
 "tileBundlesPath": "./tile",
 "maxLOD": 11,
 "minLOD": 0,
 "initialExtent": {
  "ymin": -7614417.01700000092,
  "xmin": -20037507.0672000013,
  "ymax": 6824509.18680000305,
  "xmax": 20037507.0671999976,
  "spatialReference": {
   "latestWkid": 3857,
   "wkid": 102100
  }
 },
 "name": "Veículos_CGNC",
 "serviceDescription": ""
}
