View In:
ArcGIS JavaScript
ArcGIS Online Map Viewer
ArcGIS Earth
Service Description: 2102geotiff_tif
Name: 2102geotiff_tif
Description:
Single Fused Map Cache: false
Extent:
XMin: -4942088.328412915
YMin: -20256.640074607916
XMax: -4921581.735735714
YMax: 5635.045345936436
Spatial Reference: PROJCS["WG84_MERCATOR",GEOGCS["GCS_WGS_1984",DATUM["D_WGS_1984",SPHEROID["WGS_1984",6378137.0,298.257223563]],PRIMEM["Greenwich",0.0],UNIT["Degree",0.0174532925199433]],PROJECTION["Mercator"],PARAMETER["False_Easting",0.0],PARAMETER["False_Northing",3163830.21427788],PARAMETER["Central_Meridian",0.0],PARAMETER["Standard_Parallel_1",-31.8508333333333],UNIT["Meter",1.0]]
Initial Extent:
XMin: -4942088.328412915
YMin: -20256.640074607916
XMax: -4921581.735735714
YMax: 5635.045345936436
Spatial Reference: PROJCS["WG84_MERCATOR",GEOGCS["GCS_WGS_1984",DATUM["D_WGS_1984",SPHEROID["WGS_1984",6378137.0,298.257223563]],PRIMEM["Greenwich",0.0],UNIT["Degree",0.0174532925199433]],PROJECTION["Mercator"],PARAMETER["False_Easting",0.0],PARAMETER["False_Northing",3163830.21427788],PARAMETER["Central_Meridian",0.0],PARAMETER["Standard_Parallel_1",-31.8508333333333],UNIT["Meter",1.0]]
Full Extent:
XMin: -4942088.328412915
YMin: -20256.640074607916
XMax: -4921581.735735714
YMax: 5635.045345936436
Spatial Reference: PROJCS["WG84_MERCATOR",GEOGCS["GCS_WGS_1984",DATUM["D_WGS_1984",SPHEROID["WGS_1984",6378137.0,298.257223563]],PRIMEM["Greenwich",0.0],UNIT["Degree",0.0174532925199433]],PROJECTION["Mercator"],PARAMETER["False_Easting",0.0],PARAMETER["False_Northing",3163830.21427788],PARAMETER["Central_Meridian",0.0],PARAMETER["Standard_Parallel_1",-31.8508333333333],UNIT["Meter",1.0]]
Pixel Size X: 2.121079093628487
Pixel Size Y: 2.12105229954488
Band Count: 3
Pixel Type: U8
RasterFunction Infos: {"rasterFunctionInfos": [{
"help": "",
"name": "None",
"description": ""
}]}
Mensuration Capabilities: Basic
Inspection Capabilities:
Has Histograms: true
Has Colormap: false
Has Multi Dimensions : false
Rendering Rule:
Min Scale: 0
Max Scale: 0
Copyright Text:
Service Data Type: esriImageServiceDataTypeRGB
Min Values: 0, 0, 0
Max Values: 255, 255, 255
Mean Values: 197.74146013165, 240.27192271412, 214.93197237497
Standard Deviation Values: 52.286811211142002, 29.605603734281999, 53.047015689128997
Object ID Field:
Fields:
None
Default Mosaic Method: Center
Allowed Mosaic Methods:
SortField:
SortValue: N/A
Mosaic Operator: First
Default Compression Quality: 75
Default Resampling Method: Bilinear
Max Record Count: 2000
Max Image Height: 4100
Max Image Width: 15000
Max Download Image Count: null
Max Mosaic Image Count: null
Allow Raster Function: true
Allow Copy: true
Allow Analysis: true
Allow Compute TiePoints: false
Supports Statistics: false
Supports Advanced Queries: false
Use StandardizedQueries: false
Raster Type Infos:
Name: Raster Dataset
Description: Supports all ArcGIS Raster Datasets
Help:
Has Raster Attribute Table: false
Edit Fields Info: N/A
Ownership Based AccessControl For Rasters: N/A
Child Resources:
Info
Histograms
Statistics
Key Properties
Legend
Raster Function Infos
Supported Operations:
Export Image
Identify
Measure
Compute Histograms
Compute Statistics Histograms
Get Samples
Compute Class Statistics
Query Boundary
Compute Pixel Location
Compute Angles
Validate
Project